BEGIN:VCALENDAR
VERSION:2.0
PRODID:-//Sabre//Sabre VObject 4.5.8//EN
CALSCALE:GREGORIAN
BEGIN:VEVENT
UID:sabre-vobject-cabab8fe-af3d-4874-b5fb-3ca0f115b9da
DTSTAMP:20260421T030055Z
SUMMARY:Beichtgelegenheit
DESCRIPTION:https://pfarreien-bistum-augsburg.df-preview.de/beichtgelegenhe
 it_id1710912
DTSTART;TZID=Europe/Berlin:20260411T173000
DURATION:PT30M
LOCATION:St. Felizitas
END:VEVENT
END:VCALENDAR
