BEGIN:VCALENDAR
VERSION:2.0
PRODID:-//Sabre//Sabre VObject 4.5.8//EN
CALSCALE:GREGORIAN
BEGIN:VEVENT
UID:sabre-vobject-c224a85a-f15a-4e48-a159-f0e9eb73b33a
DTSTAMP:20260420T205425Z
SUMMARY:Heilige Messe
DESCRIPTION:https://pfarreien-bistum-augsburg.df-preview.de/heilige-messe_i
 d1710713
DTSTART;TZID=Europe/Berlin:20260417T160000
DURATION:PT30M
LOCATION:St. Martin
END:VEVENT
END:VCALENDAR
