BEGIN:VCALENDAR
VERSION:2.0
PRODID:-//Sabre//Sabre VObject 4.5.8//EN
CALSCALE:GREGORIAN
BEGIN:VEVENT
UID:sabre-vobject-07efe7f0-ba9a-41c3-ad9f-68b2924fb026
DTSTAMP:20260420T084222Z
SUMMARY:Friedensrosenkranz und Beichtgelegenheit
DESCRIPTION:https://pfarreien-bistum-augsburg.df-preview.de/friedensrosenkr
 anz-und-beichtgelegenheit_id1710706
DTSTART;TZID=Europe/Berlin:20260409T163000
DURATION:PT30M
LOCATION:St. Justina
END:VEVENT
END:VCALENDAR
