BEGIN:VCALENDAR
VERSION:2.0
PRODID:-//Sabre//Sabre VObject 4.5.8//EN
CALSCALE:GREGORIAN
BEGIN:VEVENT
UID:sabre-vobject-a99f8f4c-c52d-4d0c-b817-a9422d6e7a8e
DTSTAMP:20260421T091322Z
SUMMARY:Heilige Messe
DESCRIPTION:https://pfarreien-bistum-augsburg.df-preview.de/heilige-messe_i
 d1710697
DTSTART;TZID=Europe/Berlin:20260416T083000
DURATION:PT30M
LOCATION:St. Konrad
END:VEVENT
END:VCALENDAR
