BEGIN:VCALENDAR
VERSION:2.0
PRODID:-//Sabre//Sabre VObject 4.5.8//EN
CALSCALE:GREGORIAN
BEGIN:VEVENT
UID:sabre-vobject-8b4ba051-aa1c-4ed8-bd3b-4af0b851ac5d
DTSTAMP:20260421T021408Z
SUMMARY:Abendmesse
DESCRIPTION:https://pfarreien-bistum-augsburg.df-preview.de/abendmesse_id17
 10687
DTSTART;TZID=Europe/Berlin:20260414T190000
DURATION:PT30M
LOCATION:St. Martin
END:VEVENT
END:VCALENDAR
