BEGIN:VCALENDAR
VERSION:2.0
PRODID:-//Sabre//Sabre VObject 4.5.8//EN
CALSCALE:GREGORIAN
BEGIN:VEVENT
UID:sabre-vobject-258938d1-c91d-4e7f-9563-0716c81fcdaa
DTSTAMP:20260420T232343Z
SUMMARY:Vorabendmesse
DESCRIPTION:https://pfarreien-bistum-augsburg.df-preview.de/vorabendmesse_i
 d1710678
DTSTART;TZID=Europe/Berlin:20260430T180000
DURATION:PT30M
LOCATION:St. Martin
END:VEVENT
END:VCALENDAR
