BEGIN:VCALENDAR
VERSION:2.0
PRODID:-//Sabre//Sabre VObject 4.5.8//EN
CALSCALE:GREGORIAN
BEGIN:VEVENT
UID:sabre-vobject-4ecbc975-9ba9-424c-a286-214e54ed916d
DTSTAMP:20260421T184812Z
SUMMARY:Pfarrgottesdienst (VAM) anschließend Barmherzigkeitsnovene
DESCRIPTION:https://pfarreien-bistum-augsburg.df-preview.de/pfarrgottesdien
 st-vam-anschliessend-barmherzigkeitsnovene_id1710666
DTSTART;TZID=Europe/Berlin:20260411T170000
DURATION:PT30M
LOCATION:St. Justina
END:VEVENT
END:VCALENDAR
