BEGIN:VCALENDAR
VERSION:2.0
PRODID:-//Sabre//Sabre VObject 4.5.8//EN
CALSCALE:GREGORIAN
BEGIN:VEVENT
UID:sabre-vobject-e49227ea-1ff8-4bcd-a35f-e64e97e5718c
DTSTAMP:20260420T214447Z
SUMMARY:Trauung
DESCRIPTION:https://pfarreien-bistum-augsburg.df-preview.de/trauung_id17106
 56
DTSTART;TZID=Europe/Berlin:20260418T140000
DURATION:PT30M
LOCATION:St. Meinrad\, Kirchenstraße 23\, 89257 Illertissen
END:VEVENT
END:VCALENDAR
