BEGIN:VCALENDAR
VERSION:2.0
PRODID:-//Sabre//Sabre VObject 4.5.8//EN
CALSCALE:GREGORIAN
BEGIN:VEVENT
UID:sabre-vobject-8aee232c-1760-4a36-abde-2a8527920839
DTSTAMP:20260420T171059Z
SUMMARY:Kinderkirche
DESCRIPTION:https://pfarreien-bistum-augsburg.df-preview.de/kinderkirche_id
 1710655
DTSTART;TZID=Europe/Berlin:20260417T113000
DURATION:PT30M
LOCATION:St. Meinrad\, Kirchenstraße 23\, 89257 Illertissen
END:VEVENT
END:VCALENDAR
