BEGIN:VCALENDAR
VERSION:2.0
PRODID:-//Sabre//Sabre VObject 4.5.8//EN
CALSCALE:GREGORIAN
BEGIN:VEVENT
UID:sabre-vobject-a078ca3c-e30d-4036-80e8-88e87bf662be
DTSTAMP:20260421T033258Z
SUMMARY:Abendmesse\, anschl. Anbetung bis 19:15 Uhr
DESCRIPTION:https://pfarreien-bistum-augsburg.df-preview.de/abendmesse-ansc
 hl-anbetung-bis-19-15-uhr_id1710650
DTSTART;TZID=Europe/Berlin:20260423T180000
DURATION:PT30M
LOCATION:St. Martin
END:VEVENT
END:VCALENDAR
