BEGIN:VCALENDAR
VERSION:2.0
PRODID:-//Sabre//Sabre VObject 4.5.8//EN
CALSCALE:GREGORIAN
BEGIN:VEVENT
UID:sabre-vobject-eca41d5f-fb3f-42f4-a27b-82a9e03b674b
DTSTAMP:20260421T123315Z
SUMMARY:Feier der Erstkommunion (für die Pfarrgemeinde)
DESCRIPTION:https://pfarreien-bistum-augsburg.df-preview.de/feier-der-erstk
 ommunion-fuer-die-pfarrgemeinde_id1710645
DTSTART;TZID=Europe/Berlin:20260419T103000
DURATION:PT30M
LOCATION:St. Martin
END:VEVENT
END:VCALENDAR
