BEGIN:VCALENDAR
VERSION:2.0
PRODID:-//Sabre//Sabre VObject 4.5.8//EN
CALSCALE:GREGORIAN
BEGIN:VEVENT
UID:sabre-vobject-10d8f4c0-8866-4ea6-b60e-283d3a4c8a1b
DTSTAMP:20260421T104224Z
SUMMARY:Vorabendmesse
DESCRIPTION:https://pfarreien-bistum-augsburg.df-preview.de/vorabendmesse_i
 d1710644
DTSTART;TZID=Europe/Berlin:20260418T180000
DURATION:PT30M
LOCATION:St. Martin
END:VEVENT
END:VCALENDAR
