BEGIN:VCALENDAR
VERSION:2.0
PRODID:-//Sabre//Sabre VObject 4.5.8//EN
CALSCALE:GREGORIAN
BEGIN:VEVENT
UID:sabre-vobject-48f5174d-88da-464d-899d-3d694cbd5147
DTSTAMP:20260420T174917Z
SUMMARY:Abendmesse
DESCRIPTION:https://pfarreien-bistum-augsburg.df-preview.de/abendmesse_id17
 10603
DTSTART;TZID=Europe/Berlin:20260422T180000
DURATION:PT30M
LOCATION:Pfarrkirche Mariä Himmelfahrt\, Kirchplatz 1\, 89257 Illertissen
END:VEVENT
END:VCALENDAR
