BEGIN:VCALENDAR
VERSION:2.0
PRODID:-//Sabre//Sabre VObject 4.5.8//EN
CALSCALE:GREGORIAN
BEGIN:VEVENT
UID:sabre-vobject-6bb05d57-efca-4ac2-8a43-dd5879a116ed
DTSTAMP:20260422T013959Z
SUMMARY:Heilige Messe
DESCRIPTION:https://pfarreien-bistum-augsburg.df-preview.de/heilige-messe_i
 d1710598
DTSTART;TZID=Europe/Berlin:20260412T090000
DURATION:PT30M
LOCATION:Pfarrkirche Mariä Himmelfahrt\, Kirchplatz 1\, 89257 Illertissen
END:VEVENT
END:VCALENDAR
