BEGIN:VCALENDAR
VERSION:2.0
PRODID:-//Sabre//Sabre VObject 4.5.8//EN
CALSCALE:GREGORIAN
BEGIN:VEVENT
UID:sabre-vobject-2048402c-4768-4eaa-92c5-0073b1bf12c8
DTSTAMP:20260421T142827Z
SUMMARY:Rosenkranzgebet
DESCRIPTION:https://pfarreien-bistum-augsburg.df-preview.de/rosenkranzgebet
 _id1710581
DTSTART;TZID=Europe/Berlin:20260412T130000
DURATION:PT30M
LOCATION:St. Stephan
END:VEVENT
END:VCALENDAR
