BEGIN:VCALENDAR
VERSION:2.0
PRODID:-//Sabre//Sabre VObject 4.5.8//EN
CALSCALE:GREGORIAN
BEGIN:VEVENT
UID:sabre-vobject-91cd1243-7108-4209-81a9-e123ad728b7a
DTSTAMP:20260424T161927Z
SUMMARY:Wortgottesfeier
DESCRIPTION:https://pfarreien-bistum-augsburg.df-preview.de/wortgottesfeier
 _id1710486
DTSTART;TZID=Europe/Berlin:20260408T150000
DURATION:PT30M
LOCATION:St. Justina
END:VEVENT
END:VCALENDAR
