BEGIN:VCALENDAR
VERSION:2.0
PRODID:-//Sabre//Sabre VObject 4.5.8//EN
CALSCALE:GREGORIAN
BEGIN:VEVENT
UID:sabre-vobject-27839001-e323-41bf-a9af-5103406df12f
DTSTAMP:20260425T170917Z
SUMMARY:Kasimirkapelle: "Oasen-Zeit" - Meditation für Christen aller Konfe
 ssionen
DESCRIPTION:https://pfarreien-bistum-augsburg.df-preview.de/kasimirkapelle-
 oasen-zeit-meditation-fuer-christen-aller-konfessionen_id1710454
DTSTART;TZID=Europe/Berlin:20260413T190000
DURATION:PT30M
LOCATION:St. Ulrich
END:VEVENT
END:VCALENDAR
