BEGIN:VCALENDAR
VERSION:2.0
PRODID:-//Sabre//Sabre VObject 4.5.8//EN
CALSCALE:GREGORIAN
BEGIN:VEVENT
UID:sabre-vobject-4baddd12-c0f1-4ab7-be3a-c90c823bcaad
DTSTAMP:20260420T103647Z
SUMMARY:Hl. Messe
DESCRIPTION:https://pfarreien-bistum-augsburg.df-preview.de/hl-messe_id1710
 409
DTSTART;TZID=Europe/Berlin:20260415T150000
DURATION:PT30M
LOCATION:St. Justina
END:VEVENT
END:VCALENDAR
