BEGIN:VCALENDAR
VERSION:2.0
PRODID:-//Sabre//Sabre VObject 4.5.8//EN
CALSCALE:GREGORIAN
BEGIN:VEVENT
UID:sabre-vobject-4bb49c11-970d-44aa-a49f-209999b7f256
DTSTAMP:20260420T230604Z
SUMMARY:Heiliges Amt in Christkönig\, Weßling
DESCRIPTION:https://pfarreien-bistum-augsburg.df-preview.de/heiliges-amt-in
 -christkoenig-wessling_id1709719
DTSTART;TZID=Europe/Berlin:20260412T103000
DURATION:PT30M
LOCATION:Christkönig
END:VEVENT
END:VCALENDAR
