BEGIN:VCALENDAR
VERSION:2.0
PRODID:-//Sabre//Sabre VObject 4.5.8//EN
CALSCALE:GREGORIAN
BEGIN:VEVENT
UID:sabre-vobject-dd6bbb2a-dd50-4c8c-ad28-8e97dd92941e
DTSTAMP:20260425T013850Z
SUMMARY:Heilige Messe in Mariae Himmelfahrt\, Weßling
DESCRIPTION:https://pfarreien-bistum-augsburg.df-preview.de/heilige-messe-i
 n-mariae-himmelfahrt-wessling_id1709701
DTSTART;TZID=Europe/Berlin:20260508T190000
DURATION:PT30M
LOCATION:Christkönig
END:VEVENT
END:VCALENDAR
