BEGIN:VCALENDAR
VERSION:2.0
PRODID:-//Sabre//Sabre VObject 4.5.8//EN
CALSCALE:GREGORIAN
BEGIN:VEVENT
UID:sabre-vobject-094c1e45-522c-41f5-9b09-3c231b7bc658
DTSTAMP:20260422T033507Z
SUMMARY:Heilige Messe in St. Georg\, Oberpfaffenhofen - anschließend Vortr
 ag von Frau Vater u. Aussetzung des Allerheiligsten
DESCRIPTION:https://pfarreien-bistum-augsburg.df-preview.de/heilige-messe-i
 n-st-georg-oberpfaffenhofen-anschliessend-vortrag-von-frau-vater-u-aussetz
 ung-des-allerheiligsten_id1709647
DTSTART;TZID=Europe/Berlin:20260506T183000
DURATION:PT30M
LOCATION:St. Georg
END:VEVENT
END:VCALENDAR
