BEGIN:VCALENDAR
VERSION:2.0
PRODID:-//Sabre//Sabre VObject 4.5.8//EN
CALSCALE:GREGORIAN
BEGIN:VEVENT
UID:sabre-vobject-8032453f-e190-4048-81e6-a99ce74e721b
DTSTAMP:20260426T000642Z
SUMMARY:Rosenkranz
DESCRIPTION:https://pfarreien-bistum-augsburg.df-preview.de/rosenkranz_id17
 09459
DTSTART;TZID=Europe/Berlin:20260623T183000
DURATION:PT30M
LOCATION:St. Katharina
END:VEVENT
END:VCALENDAR
