BEGIN:VCALENDAR
VERSION:2.0
PRODID:-//Sabre//Sabre VObject 4.5.8//EN
CALSCALE:GREGORIAN
BEGIN:VEVENT
UID:sabre-vobject-e29bb7c4-3edd-41c0-8d41-7f21d760c428
DTSTAMP:20260424T232010Z
SUMMARY:Heilige Messe
DESCRIPTION:https://pfarreien-bistum-augsburg.df-preview.de/heilige-messe_i
 d1709453
DTSTART;TZID=Europe/Berlin:20260613T190000
DURATION:PT30M
LOCATION:St. Laurentius
END:VEVENT
END:VCALENDAR
