BEGIN:VCALENDAR
VERSION:2.0
PRODID:-//Sabre//Sabre VObject 4.5.8//EN
CALSCALE:GREGORIAN
BEGIN:VEVENT
UID:sabre-vobject-122eb84a-f05d-45ac-829e-de0a950b1968
DTSTAMP:20260424T164959Z
SUMMARY:Heilige Messe m. ewiger Anbetung
DESCRIPTION:https://pfarreien-bistum-augsburg.df-preview.de/heilige-messe-m
 -ewiger-anbetung_id1709375
DTSTART;TZID=Europe/Berlin:20260603T190000
DURATION:PT30M
LOCATION:St. Laurentius
END:VEVENT
END:VCALENDAR
