BEGIN:VCALENDAR
VERSION:2.0
PRODID:-//Sabre//Sabre VObject 4.5.8//EN
CALSCALE:GREGORIAN
BEGIN:VEVENT
UID:sabre-vobject-833b2f00-b57e-43dd-ace2-e2464718199e
DTSTAMP:20260424T153635Z
SUMMARY:Heilige Messe
DESCRIPTION:https://pfarreien-bistum-augsburg.df-preview.de/heilige-messe_i
 d1709374
DTSTART;TZID=Europe/Berlin:20260530T190000
DURATION:PT30M
LOCATION:St. Laurentius
END:VEVENT
END:VCALENDAR
