BEGIN:VCALENDAR
VERSION:2.0
PRODID:-//Sabre//Sabre VObject 4.5.8//EN
CALSCALE:GREGORIAN
BEGIN:VEVENT
UID:sabre-vobject-93864e2a-dd0e-472d-8bed-9896df6705ce
DTSTAMP:20260425T221810Z
SUMMARY:Wallfahrt nach Maria Birnbaum\, dort um 8:30 Messe
DESCRIPTION:https://pfarreien-bistum-augsburg.df-preview.de/wallfahrt-nach-
 maria-birnbaum-dort-um-8-30-messe_id1709246
DTSTART;TZID=Europe/Berlin:20260501T074500
DURATION:PT30M
LOCATION:St. Katharina
END:VEVENT
END:VCALENDAR
