BEGIN:VCALENDAR
VERSION:2.0
PRODID:-//Sabre//Sabre VObject 4.5.8//EN
CALSCALE:GREGORIAN
BEGIN:VEVENT
UID:sabre-vobject-0b892197-fcf5-49f8-931d-49a1c54887de
DTSTAMP:20260423T234642Z
SUMMARY:Küchenrosenkranzgebet in Mariae Himmelfahrt\, Weßling
DESCRIPTION:https://pfarreien-bistum-augsburg.df-preview.de/kuechenrosenkra
 nzgebet-in-mariae-himmelfahrt-wessling_id1709231
DTSTART;TZID=Europe/Berlin:20260428T183000
DURATION:PT30M
LOCATION:Christkönig
END:VEVENT
END:VCALENDAR
