BEGIN:VCALENDAR
VERSION:2.0
PRODID:-//Sabre//Sabre VObject 4.5.8//EN
CALSCALE:GREGORIAN
BEGIN:VEVENT
UID:sabre-vobject-377aa88a-ae93-45da-9792-3656857b186a
DTSTAMP:20260423T033028Z
SUMMARY:Heilige Messe
DESCRIPTION:https://pfarreien-bistum-augsburg.df-preview.de/heilige-messe_i
 d1709151
DTSTART;TZID=Europe/Berlin:20260514T083000
DURATION:PT30M
LOCATION:St. Elisabeth
END:VEVENT
END:VCALENDAR
