BEGIN:VCALENDAR
VERSION:2.0
PRODID:-//Sabre//Sabre VObject 4.5.8//EN
CALSCALE:GREGORIAN
BEGIN:VEVENT
UID:sabre-vobject-8d0c03f6-21a4-4cd0-a891-dd6d671fc6ab
DTSTAMP:20260422T191238Z
SUMMARY:Fußwallfahrt nach Andechs\, Treffpunkt Dillitz
DESCRIPTION:https://pfarreien-bistum-augsburg.df-preview.de/fusswallfahrt-n
 ach-andechs-treffpunkt-dillitz_id1709146
DTSTART;TZID=Europe/Berlin:20260509T020000
DURATION:PT30M
LOCATION:St. Elisabeth
END:VEVENT
END:VCALENDAR
