BEGIN:VCALENDAR
VERSION:2.0
PRODID:-//Sabre//Sabre VObject 4.5.8//EN
CALSCALE:GREGORIAN
BEGIN:VEVENT
UID:sabre-vobject-57b02d98-574f-4980-b14c-9618aa0ad596
DTSTAMP:20260423T094335Z
SUMMARY:Rosenkranz für den Frieden in der Welt
DESCRIPTION:https://pfarreien-bistum-augsburg.df-preview.de/rosenkranz-fuer
 -den-frieden-in-der-welt_id1709011
DTSTART;TZID=Europe/Berlin:20260516T173000
DURATION:PT30M
LOCATION:St. Elisabeth
END:VEVENT
END:VCALENDAR
