BEGIN:VCALENDAR
VERSION:2.0
PRODID:-//Sabre//Sabre VObject 4.5.8//EN
CALSCALE:GREGORIAN
BEGIN:VEVENT
UID:sabre-vobject-924ecfef-91f8-4d90-8446-2ac4ca38c0c5
DTSTAMP:20260420T135637Z
SUMMARY:Hl. Messe mit Feier der Erstkommunion und Taufe von Mio Kneißle
DESCRIPTION:https://pfarreien-bistum-augsburg.df-preview.de/hl-messe-mit-fe
 ier-der-erstkommunion-und-taufe-von-mio-kneissle_id1708893
DTSTART;TZID=Europe/Berlin:20260503T084500
DURATION:PT30M
LOCATION:St. Vitus\, St.-Vitus-Str. 12\, 89312 Günzburg
END:VEVENT
END:VCALENDAR
