BEGIN:VCALENDAR
VERSION:2.0
PRODID:-//Sabre//Sabre VObject 4.5.8//EN
CALSCALE:GREGORIAN
BEGIN:VEVENT
UID:sabre-vobject-7a43a49f-eee9-4465-9717-28e42cbd1b60
DTSTAMP:20260422T124703Z
SUMMARY:Maiandacht m. ewiger Anbetung
DESCRIPTION:https://pfarreien-bistum-augsburg.df-preview.de/maiandacht-m-ew
 iger-anbetung_id1708874
DTSTART;TZID=Europe/Berlin:20260531T190000
DURATION:PT30M
LOCATION:St. Elisabeth
END:VEVENT
END:VCALENDAR
