BEGIN:VCALENDAR
VERSION:2.0
PRODID:-//Sabre//Sabre VObject 4.5.8//EN
CALSCALE:GREGORIAN
BEGIN:VEVENT
UID:sabre-vobject-0ec5b2c2-2ff9-4747-ac18-6747ec39c51a
DTSTAMP:20260421T142837Z
SUMMARY:Rosenkranz
DESCRIPTION:https://pfarreien-bistum-augsburg.df-preview.de/rosenkranz_id17
 08661
DTSTART;TZID=Europe/Berlin:20260411T182500
DURATION:PT30M
LOCATION:St. Peter
END:VEVENT
END:VCALENDAR
