BEGIN:VCALENDAR
VERSION:2.0
PRODID:-//Sabre//Sabre VObject 4.5.8//EN
CALSCALE:GREGORIAN
BEGIN:VEVENT
UID:sabre-vobject-70435745-a59d-4a91-aa9c-b22f611bef32
DTSTAMP:20260423T132854Z
SUMMARY:Rosenkranz
DESCRIPTION:https://pfarreien-bistum-augsburg.df-preview.de/rosenkranz_id17
 08657
DTSTART;TZID=Europe/Berlin:20260410T150000
DURATION:PT30M
LOCATION:St. Peter
END:VEVENT
END:VCALENDAR
