BEGIN:VCALENDAR
VERSION:2.0
PRODID:-//Sabre//Sabre VObject 4.5.8//EN
CALSCALE:GREGORIAN
BEGIN:VEVENT
UID:sabre-vobject-96033237-0c57-4c98-b8c1-abe274581f8d
DTSTAMP:20260421T154445Z
SUMMARY:Wallfahrt nach Maria Birnbaum\, dort um 8:30 Uhr Messe
DESCRIPTION:https://pfarreien-bistum-augsburg.df-preview.de/wallfahrt-nach-
 maria-birnbaum-dort-um-8-30-uhr-messe_id1708637
DTSTART;TZID=Europe/Berlin:20260501T070000
DURATION:PT30M
LOCATION:St. Elisabeth
END:VEVENT
END:VCALENDAR
