BEGIN:VCALENDAR
VERSION:2.0
PRODID:-//Sabre//Sabre VObject 4.5.8//EN
CALSCALE:GREGORIAN
BEGIN:VEVENT
UID:sabre-vobject-c46dd261-b47a-4e65-b891-9722e495ed8e
DTSTAMP:20260423T072618Z
SUMMARY:Hl. Messe
DESCRIPTION:https://pfarreien-bistum-augsburg.df-preview.de/hl-messe_id1708
 621
DTSTART;TZID=Europe/Berlin:20260411T080000
DURATION:PT30M
LOCATION:St. Georg
END:VEVENT
END:VCALENDAR
