BEGIN:VCALENDAR
VERSION:2.0
PRODID:-//Sabre//Sabre VObject 4.5.8//EN
CALSCALE:GREGORIAN
BEGIN:VEVENT
UID:sabre-vobject-63ea41da-be66-4495-8630-c7f88306872f
DTSTAMP:20260423T112007Z
SUMMARY:Heilige Messe f. die Pfarreiengemeinschaft
DESCRIPTION:https://pfarreien-bistum-augsburg.df-preview.de/heilige-messe-f
 -die-pfarreiengemeinschaft_id1708596
DTSTART;TZID=Europe/Berlin:20260510T083000
DURATION:PT30M
LOCATION:St. Laurentius
END:VEVENT
END:VCALENDAR
