BEGIN:VCALENDAR
VERSION:2.0
PRODID:-//Sabre//Sabre VObject 4.5.8//EN
CALSCALE:GREGORIAN
BEGIN:VEVENT
UID:sabre-vobject-bc6fd56b-e2cd-428b-a3de-dac0d36f57e7
DTSTAMP:20260424T113554Z
SUMMARY:Andacht in St. Salvator
DESCRIPTION:https://pfarreien-bistum-augsburg.df-preview.de/andacht-in-st-s
 alvator_id1708426
DTSTART;TZID=Europe/Berlin:20260618T180000
DURATION:PT30M
LOCATION:St. Elisabeth
END:VEVENT
END:VCALENDAR
