BEGIN:VCALENDAR
VERSION:2.0
PRODID:-//Sabre//Sabre VObject 4.5.8//EN
CALSCALE:GREGORIAN
BEGIN:VEVENT
UID:sabre-vobject-5cdb0429-d8aa-42b0-bf56-5340888fa492
DTSTAMP:20260421T141034Z
SUMMARY:Haus- und Krankenkommunion
DESCRIPTION:https://pfarreien-bistum-augsburg.df-preview.de/haus-und-kranke
 nkommunion_id1708370
DTSTART;TZID=Europe/Berlin:20260410T100000
DURATION:PT30M
LOCATION:St. Martin\, Pfarrhofplatz 11\, 89312 Günzburg
END:VEVENT
END:VCALENDAR
