BEGIN:VCALENDAR
VERSION:2.0
PRODID:-//Sabre//Sabre VObject 4.5.8//EN
CALSCALE:GREGORIAN
BEGIN:VEVENT
UID:sabre-vobject-26902df5-d236-41fa-a834-3d912932481c
DTSTAMP:20260422T003007Z
SUMMARY:Stille Stunde im April  - eucharistische Anbetung in der Pfarreieng
 emeinschaft
DESCRIPTION:https://pfarreien-bistum-augsburg.df-preview.de/stille-stunde-i
 m-april-eucharistische-anbetung-in-der-pfarreiengemeinschaft_id1708369
DTSTART;TZID=Europe/Berlin:20260408T183000
DURATION:PT30M
LOCATION:St. Martin\, Pfarrhofplatz 11\, 89312 Günzburg
END:VEVENT
END:VCALENDAR
