BEGIN:VCALENDAR
VERSION:2.0
PRODID:-//Sabre//Sabre VObject 4.5.8//EN
CALSCALE:GREGORIAN
BEGIN:VEVENT
UID:sabre-vobject-69d6a0e0-0e95-4ab3-81b8-720b063bb09d
DTSTAMP:20260422T095950Z
SUMMARY:Wort-Gottes-Feier
DESCRIPTION:https://pfarreien-bistum-augsburg.df-preview.de/wort-gottes-fei
 er_id1708365
DTSTART;TZID=Europe/Berlin:20260408T100000
DURATION:PT30M
LOCATION:St. Martin\, Pfarrhofplatz 11\, 89312 Günzburg
END:VEVENT
END:VCALENDAR
