BEGIN:VCALENDAR
VERSION:2.0
PRODID:-//Sabre//Sabre VObject 4.5.8//EN
CALSCALE:GREGORIAN
BEGIN:VEVENT
UID:sabre-vobject-8dcc87b2-a99b-489e-a646-065a770cf555
DTSTAMP:20260420T113233Z
SUMMARY:Rosenkranz
DESCRIPTION:https://pfarreien-bistum-augsburg.df-preview.de/rosenkranz_id17
 08292
DTSTART;TZID=Europe/Berlin:20260408T160000
DURATION:PT30M
LOCATION:St. Sebastian\, Pfarrer-Brümmer-Straße 16\, 86485 Affaltern
END:VEVENT
END:VCALENDAR
