BEGIN:VCALENDAR
VERSION:2.0
PRODID:-//Sabre//Sabre VObject 4.5.8//EN
CALSCALE:GREGORIAN
BEGIN:VEVENT
UID:sabre-vobject-b6aa27eb-98b8-45bd-88a6-ada901a41eae
DTSTAMP:20260422T191324Z
SUMMARY:Taufe von Mia Motta
DESCRIPTION:https://pfarreien-bistum-augsburg.df-preview.de/taufe-von-mia-m
 otta_id1708172
DTSTART;TZID=Europe/Berlin:20260411T133000
DURATION:PT30M
LOCATION:St. Michael
END:VEVENT
END:VCALENDAR
