BEGIN:VCALENDAR
VERSION:2.0
PRODID:-//Sabre//Sabre VObject 4.5.8//EN
CALSCALE:GREGORIAN
BEGIN:VEVENT
UID:sabre-vobject-eb007c4f-acdd-4b07-9c62-1bbc47c95de0
DTSTAMP:20260420T210321Z
SUMMARY:Heilige Messe
DESCRIPTION:https://pfarreien-bistum-augsburg.df-preview.de/heilige-messe_i
 d1708054
DTSTART;TZID=Europe/Berlin:20260417T090000
DURATION:PT30M
LOCATION:St. Michael
END:VEVENT
END:VCALENDAR
