BEGIN:VCALENDAR
VERSION:2.0
PRODID:-//Sabre//Sabre VObject 4.5.8//EN
CALSCALE:GREGORIAN
BEGIN:VEVENT
UID:sabre-vobject-3defb5b8-a352-4e61-a500-6cc54a5ea44d
DTSTAMP:20260423T061608Z
SUMMARY:Beichte Kommunionkinder
DESCRIPTION:https://pfarreien-bistum-augsburg.df-preview.de/beichte-kommuni
 onkinder_id1707911
DTSTART;TZID=Europe/Berlin:20260408T170000
DURATION:PT30M
LOCATION:Mariä Schmerzen
END:VEVENT
END:VCALENDAR
