BEGIN:VCALENDAR
VERSION:2.0
PRODID:-//Sabre//Sabre VObject 4.5.8//EN
CALSCALE:GREGORIAN
BEGIN:VEVENT
UID:sabre-vobject-00eea425-632c-4259-acda-d37f5c627e91
DTSTAMP:20260421T111925Z
SUMMARY:GD der portugiesischen Gemeinde
DESCRIPTION:https://pfarreien-bistum-augsburg.df-preview.de/gd-der-portugie
 sischen-gemeinde_id1707817
DTSTART;TZID=Europe/Berlin:20260412T093000
DURATION:PT30M
LOCATION:St. Joseph
END:VEVENT
END:VCALENDAR
