BEGIN:VCALENDAR
VERSION:2.0
PRODID:-//Sabre//Sabre VObject 4.5.8//EN
CALSCALE:GREGORIAN
BEGIN:VEVENT
UID:sabre-vobject-62059ec7-05b8-471b-a8b1-5b78ef2a9448
DTSTAMP:20260421T142839Z
SUMMARY:GD der syri.-kath. Gemeinde
DESCRIPTION:https://pfarreien-bistum-augsburg.df-preview.de/gd-der-syri-kat
 h-gemeinde_id1707816
DTSTART;TZID=Europe/Berlin:20260411T180000
DURATION:PT30M
LOCATION:St. Joseph
END:VEVENT
END:VCALENDAR
