BEGIN:VCALENDAR
VERSION:2.0
PRODID:-//Sabre//Sabre VObject 4.5.8//EN
CALSCALE:GREGORIAN
BEGIN:VEVENT
UID:sabre-vobject-502f5835-9f91-4558-9a1d-4db05b1c65ce
DTSTAMP:20260420T180548Z
SUMMARY:Krankenhauskapelle: Gebet und Bibelteilen
DESCRIPTION:https://pfarreien-bistum-augsburg.df-preview.de/krankenhauskape
 lle-gebet-und-bibelteilen_id1707760
DTSTART;TZID=Europe/Berlin:20260421T183000
DURATION:PT30M
LOCATION:St. Michael
END:VEVENT
END:VCALENDAR
