BEGIN:VCALENDAR
VERSION:2.0
PRODID:-//Sabre//Sabre VObject 4.5.8//EN
CALSCALE:GREGORIAN
BEGIN:VEVENT
UID:sabre-vobject-6caf6047-9e39-4bf0-96de-8e47403f4925
DTSTAMP:20260420T132141Z
SUMMARY:Haus Raphael: Heilige Messe
DESCRIPTION:https://pfarreien-bistum-augsburg.df-preview.de/haus-raphael-he
 ilige-messe_id1707758
DTSTART;TZID=Europe/Berlin:20260421T160000
DURATION:PT30M
LOCATION:St. Michael
END:VEVENT
END:VCALENDAR
