BEGIN:VCALENDAR
VERSION:2.0
PRODID:-//Sabre//Sabre VObject 4.5.8//EN
CALSCALE:GREGORIAN
BEGIN:VEVENT
UID:sabre-vobject-e54fbc9d-6779-40f8-998f-2e83ae18e527
DTSTAMP:20260420T210959Z
SUMMARY:Vorabendmesse (18:30 Rosenkranz)
DESCRIPTION:https://pfarreien-bistum-augsburg.df-preview.de/vorabendmesse-1
 8-30-rosenkranz_id1707718
DTSTART;TZID=Europe/Berlin:20260411T190000
DURATION:PT30M
LOCATION:Mater Dolorosa\, Klimmach 61\, 86830 Klimmach
END:VEVENT
END:VCALENDAR
